BEGIN:VCALENDAR
VERSION:2.0
PRODID:-//Henderson Vance Downtown Development Commission - ECPv6.15.20//NONSGML v1.0//EN
CALSCALE:GREGORIAN
METHOD:PUBLISH
X-WR-CALNAME:Henderson Vance Downtown Development Commission
X-ORIGINAL-URL:https://hendersonncdowntown.org
X-WR-CALDESC:Events for Henderson Vance Downtown Development Commission
REFRESH-INTERVAL;VALUE=DURATION:PT1H
X-Robots-Tag:noindex
X-PUBLISHED-TTL:PT1H
BEGIN:VTIMEZONE
TZID:America/New_York
BEGIN:DAYLIGHT
TZOFFSETFROM:-0500
TZOFFSETTO:-0400
TZNAME:EDT
DTSTART:20210314T070000
END:DAYLIGHT
BEGIN:STANDARD
TZOFFSETFROM:-0400
TZOFFSETTO:-0500
TZNAME:EST
DTSTART:20211107T060000
END:STANDARD
BEGIN:DAYLIGHT
TZOFFSETFROM:-0500
TZOFFSETTO:-0400
TZNAME:EDT
DTSTART:20220313T070000
END:DAYLIGHT
BEGIN:STANDARD
TZOFFSETFROM:-0400
TZOFFSETTO:-0500
TZNAME:EST
DTSTART:20221106T060000
END:STANDARD
BEGIN:DAYLIGHT
TZOFFSETFROM:-0500
TZOFFSETTO:-0400
TZNAME:EDT
DTSTART:20230312T070000
END:DAYLIGHT
BEGIN:STANDARD
TZOFFSETFROM:-0400
TZOFFSETTO:-0500
TZNAME:EST
DTSTART:20231105T060000
END:STANDARD
END:VTIMEZONE
BEGIN:VEVENT
DTSTART;TZID=America/New_York:20220917T110000
DTEND;TZID=America/New_York:20220917T140000
DTSTAMP:20260425T113123
CREATED:20220915T164925Z
LAST-MODIFIED:20220915T164935Z
UID:2066-1663412400-1663423200@hendersonncdowntown.org
SUMMARY:Ducky Derby 2022
DESCRIPTION:Franklin Granville Vance Smart Start will be hosting its 13th Annual Ducky Derby on Saturday\, September 17\, 2022. There will be all kinds of fun activities for families with young children starting at 11 am followed by the Ducky Derby Race at 2 pm. Garnett Street will be flooded with a river of rubber ducks to raise funds to support services for families with children ages 0-5. One lucky duck will win $1\,000. For more info call 252-433-9110 x230
URL:https://hendersonncdowntown.org/event/ducky-derby-2022/
LOCATION:Downtown Garnett Street\, Garnett Street\, Henderson\, NC\, 27536\, United States
ATTACH;FMTTYPE=image/jpeg:https://hendersonncdowntown.org/wp-content/uploads/2022/09/duck-truck1.jpg
END:VEVENT
BEGIN:VEVENT
DTSTART;TZID=America/New_York:20220924T080000
DTEND;TZID=America/New_York:20220924T110000
DTSTAMP:20260425T113123
CREATED:20220824T183634Z
LAST-MODIFIED:20220824T190849Z
UID:2034-1664006400-1664017200@hendersonncdowntown.org
SUMMARY:Community Cleanup 2022
DESCRIPTION:1 Identify an area to clean up Your neighborhood\, other locations in the community or contact Tracey Kimbrell for suggestions \n2 Form a group Churches\, civic groups\, schools\, neighborhoods\, etc. \n3 Join your community Join your community on Sept. 24th\, 2022 in a city-wide cleanup event. \n4 Trash Bag Pickup Upon request\, the City of Henderson will provide trash bags and will pick up filled bags left in predesignated areas.
URL:https://hendersonncdowntown.org/event/community-cleanup-2022/
LOCATION:Downtown Garnett Street\, Garnett Street\, Henderson\, NC\, 27536\, United States
ATTACH;FMTTYPE=image/jpeg:https://hendersonncdowntown.org/wp-content/uploads/2022/08/Community-Cleanup-Fall-2022.jpg
END:VEVENT
END:VCALENDAR