BEGIN:VCALENDAR
VERSION:2.0
PRODID:-//Henderson Vance Downtown Development Commission - ECPv6.15.20//NONSGML v1.0//EN
CALSCALE:GREGORIAN
METHOD:PUBLISH
X-ORIGINAL-URL:https://hendersonncdowntown.org
X-WR-CALDESC:Events for Henderson Vance Downtown Development Commission
REFRESH-INTERVAL;VALUE=DURATION:PT1H
X-Robots-Tag:noindex
X-PUBLISHED-TTL:PT1H
BEGIN:VTIMEZONE
TZID:America/New_York
BEGIN:DAYLIGHT
TZOFFSETFROM:-0500
TZOFFSETTO:-0400
TZNAME:EDT
DTSTART:20210314T070000
END:DAYLIGHT
BEGIN:STANDARD
TZOFFSETFROM:-0400
TZOFFSETTO:-0500
TZNAME:EST
DTSTART:20211107T060000
END:STANDARD
BEGIN:DAYLIGHT
TZOFFSETFROM:-0500
TZOFFSETTO:-0400
TZNAME:EDT
DTSTART:20220313T070000
END:DAYLIGHT
BEGIN:STANDARD
TZOFFSETFROM:-0400
TZOFFSETTO:-0500
TZNAME:EST
DTSTART:20221106T060000
END:STANDARD
BEGIN:DAYLIGHT
TZOFFSETFROM:-0500
TZOFFSETTO:-0400
TZNAME:EDT
DTSTART:20230312T070000
END:DAYLIGHT
BEGIN:STANDARD
TZOFFSETFROM:-0400
TZOFFSETTO:-0500
TZNAME:EST
DTSTART:20231105T060000
END:STANDARD
END:VTIMEZONE
BEGIN:VEVENT
DTSTART;TZID=America/New_York:20221022T170000
DTEND;TZID=America/New_York:20221022T203000
DTSTAMP:20260426T000741
CREATED:20221010T191250Z
LAST-MODIFIED:20221010T191739Z
UID:2077-1666458000-1666470600@hendersonncdowntown.org
SUMMARY:Downtown Live on Young - 2022
DESCRIPTION:Enjoy a unique dining experience as we close Young Street in Downtown Henderson\, NC and you’ll dine in the street! We’ll setup a fine dining table arrangement where you well enjoy dinner\, Entertainment & Beverages. \nSponsorship opportunities are also available and includes tickets. \nTickets are $75 and available at the HVDDC Office at 207 North Garnett Street\, Henderson\, NC\, the Henderson Vance Chamber of Commerce at 414 South Garnett Street\, Henderson\, NC. You may also call Alice Sallins at 252-767-4579 or Amanda Ellis at 252-492-0133.
URL:https://hendersonncdowntown.org/event/downtown-live-on-young-2022/
LOCATION:NC
CATEGORIES:Downtown Event
ATTACH;FMTTYPE=image/jpeg:https://hendersonncdowntown.org/wp-content/uploads/2022/08/harvest-gala-1920.jpg
END:VEVENT
END:VCALENDAR