BEGIN:VCALENDAR
VERSION:2.0
PRODID:-//Henderson Vance Downtown Development Commission - ECPv6.15.20//NONSGML v1.0//EN
CALSCALE:GREGORIAN
METHOD:PUBLISH
X-WR-CALNAME:Henderson Vance Downtown Development Commission
X-ORIGINAL-URL:https://hendersonncdowntown.org
X-WR-CALDESC:Events for Henderson Vance Downtown Development Commission
REFRESH-INTERVAL;VALUE=DURATION:PT1H
X-Robots-Tag:noindex
X-PUBLISHED-TTL:PT1H
BEGIN:VTIMEZONE
TZID:America/New_York
BEGIN:DAYLIGHT
TZOFFSETFROM:-0500
TZOFFSETTO:-0400
TZNAME:EDT
DTSTART:20210314T070000
END:DAYLIGHT
BEGIN:STANDARD
TZOFFSETFROM:-0400
TZOFFSETTO:-0500
TZNAME:EST
DTSTART:20211107T060000
END:STANDARD
BEGIN:DAYLIGHT
TZOFFSETFROM:-0500
TZOFFSETTO:-0400
TZNAME:EDT
DTSTART:20220313T070000
END:DAYLIGHT
BEGIN:STANDARD
TZOFFSETFROM:-0400
TZOFFSETTO:-0500
TZNAME:EST
DTSTART:20221106T060000
END:STANDARD
BEGIN:DAYLIGHT
TZOFFSETFROM:-0500
TZOFFSETTO:-0400
TZNAME:EDT
DTSTART:20230312T070000
END:DAYLIGHT
BEGIN:STANDARD
TZOFFSETFROM:-0400
TZOFFSETTO:-0500
TZNAME:EST
DTSTART:20231105T060000
END:STANDARD
END:VTIMEZONE
BEGIN:VEVENT
DTSTART;TZID=America/New_York:20221015T073000
DTEND;TZID=America/New_York:20221015T170000
DTSTAMP:20260425T070117
CREATED:20220915T164315Z
LAST-MODIFIED:20220915T164328Z
UID:2062-1665819000-1665853200@hendersonncdowntown.org
SUMMARY:Show\, Shine\, Shag & Dine 2022
DESCRIPTION:Vance County Tourism presents Antique Classic & Nostalgia Drag Car Show in Historic Downtown Henderson\, NC \nMain Car Show Downtown is October 15\, 2022 7:30am to 5pm \n  \n 
URL:https://hendersonncdowntown.org/event/show-shine-shag-dine-2022/
LOCATION:Downtown Garnett Street\, Garnett Street\, Henderson\, NC\, 27536\, United States
ATTACH;FMTTYPE=image/jpeg:https://hendersonncdowntown.org/wp-content/uploads/2022/09/car-show-2022.jpg
END:VEVENT
BEGIN:VEVENT
DTSTART;TZID=America/New_York:20221015T100000
DTEND;TZID=America/New_York:20221015T120000
DTSTAMP:20260425T070117
CREATED:20220915T162932Z
LAST-MODIFIED:20220915T162932Z
UID:2056-1665828000-1665835200@hendersonncdowntown.org
SUMMARY:Basketball Skills and Drills Camp
DESCRIPTION:The Henderson-Vance Recreation Parks Department will be hosting a free basketball camp for youth ages 7-12 as of 1/1/2023 to prepare them for the 2022-2023 season. Camp will be every Saturday starting October 15\, 2022 from 10am-12pm at Aycock center. Youth must wear sneakers to camp. You can register at the center’s front desk or online at https://hvrpd.recdesk.com/ \nFor more info contact Darius Pitt \ndariuspitt@henderson.nc.gov \n252-431-6099
URL:https://hendersonncdowntown.org/event/basketball-skills-and-drills-camp/
LOCATION:NC
ATTACH;FMTTYPE=image/jpeg:https://hendersonncdowntown.org/wp-content/uploads/2022/09/2022-Basketball-Skills-and-drills-camp.jpg
ORGANIZER;CN="Henderson-Vance Recreation & Parks Department":MAILTO:jjohnson@ci.henderson.nc.us
END:VEVENT
END:VCALENDAR